BEGIN:VCALENDAR
VERSION:2.0
PRODID:-//Newark Book Festival - ECPv6.14.1//NONSGML v1.0//EN
CALSCALE:GREGORIAN
METHOD:PUBLISH
X-ORIGINAL-URL:https://www.newarkbookfestival.org.uk
X-WR-CALDESC:Events for Newark Book Festival
REFRESH-INTERVAL;VALUE=DURATION:PT1H
X-Robots-Tag:noindex
X-PUBLISHED-TTL:PT1H
BEGIN:VTIMEZONE
TZID:UTC
BEGIN:STANDARD
TZOFFSETFROM:+0000
TZOFFSETTO:+0000
TZNAME:UTC
DTSTART:20250101T000000
END:STANDARD
END:VTIMEZONE
BEGIN:VEVENT
DTSTART;VALUE=DATE:20250710
DTEND;VALUE=DATE:20250714
DTSTAMP:20260420T003252
CREATED:20250515T205016Z
LAST-MODIFIED:20250516T190743Z
UID:6293-1752105600-1752451199@www.newarkbookfestival.org.uk
SUMMARY:The Zone
DESCRIPTION:Chill\, create\, be you at The Zone – Zest Theatre’s award-winning pop-up community space\, open after school and over the festival weekend\, and brought to you by Newark Creates. From laidback hangouts and high-energy workshops with pro artists to gaming\, book corners\, and adrenaline-pumping parties – you decide how to spend your time in The Zone. \nOpen after school and across the weekend\, it’s the perfect place to chill\, create\, and be you. \nThursday 10th July | 3pm - 6pm\nFriday 11th July | 3pm - 6pm\nSaturday 12th July | 11am - 5pm\nSunday 13th July | 11am - 5pm \n#GetInTheZone
URL:https://www.newarkbookfestival.org.uk/event/the-zone/
LOCATION:Newark Market Place\, Newark Royal Market\, Market Place\, Newark\, Nottinghamshire\, NG24 1DU
CATEGORIES:Free Event,Teen & Young Adult
ATTACH;FMTTYPE=image/png:https://www.newarkbookfestival.org.uk/wp-content/uploads/2025/05/The-Zone.png
END:VEVENT
BEGIN:VEVENT
DTSTART;VALUE=DATE:20250712
DTEND;VALUE=DATE:20250714
DTSTAMP:20260420T003252
CREATED:20250515T215036Z
LAST-MODIFIED:20250515T215036Z
UID:6272-1752278400-1752451199@www.newarkbookfestival.org.uk
SUMMARY:Literature Village
DESCRIPTION:Saturday 12th July 9.30am – 4pm \nWonderful local bookish crafts and trinkets\, stories and books of all genres. Find the Literature Village under the red and white stripes of the Newark Royal Market stalls and\, due to the popularity of the event\, spilling between the colonnades inside the Buttermarket. \nSunday 13th July 10am – 3pm \nJoin in as the Literature Village takes over the entire Royal Market for the day with over 60 stalls\, and family fun in the dedicated Children’s Zone. Find a treasure trove of all things literary related including crafts\, books\, poetry\, authors and more. Sponsored by The Coffeehouse Writer. \nLook out for the roaming street performers and their hula hoops on Sunday and join in the fun!
URL:https://www.newarkbookfestival.org.uk/event/literature-village-2025/
LOCATION:Newark Market Place\, Newark Royal Market\, Market Place\, Newark\, Nottinghamshire\, NG24 1DU
CATEGORIES:Market
ATTACH;FMTTYPE=image/png:https://www.newarkbookfestival.org.uk/wp-content/uploads/2025/05/Literature-Village.png
END:VEVENT
BEGIN:VEVENT
DTSTART;TZID=UTC:20250712T100000
DTEND;TZID=UTC:20250712T110000
DTSTAMP:20260420T003252
CREATED:20250516T132752Z
LAST-MODIFIED:20250604T141911Z
UID:6243-1752314400-1752318000@www.newarkbookfestival.org.uk
SUMMARY:The Brain at Rest
DESCRIPTION:What if doing less was the key to thinking more clearly\, creatively\, feeling better\, and living longer? \nIn this fascinating and eye-opening event\, neuroscientist and bestselling author Dr Joseph Jebelli introduces his latest book\, The Brain at Rest—a timely and transformative exploration of the science behind stillness\, rest\, and recovery. \nDrawing on cutting-edge research and global case studies\, Dr Jebelli reveals how overwork\, constant stimulation\, and modern busyness are reshaping our brains and harming our health. From the Japanese phenomenon of karoshi (death by overwork) to the power of short walks and the mind-clearing effects of nature\, The Brain at Rest offers powerful insight into why slowing down might just save our minds. \nLearn how just four minutes of movement can lift your mood\, why forest bathing boosts immunity\, and how rest is essential for everything from memory to creativity. Packed with engaging stories\, neuroscience-backed facts\, and practical tips\, this is more than a book talk—it’s an invitation to reset. \nYou’ll have a chance to ask any questions at the end\, and get your own copy of the book signed by the author.  \nWhether you’re burned out\, curious\, or just looking for a new perspective\, take this hour to do something radical: pause\, listen\, and let your brain rest.
URL:https://www.newarkbookfestival.org.uk/event/the-brain-at-rest/
LOCATION:Newark Town Hall\, Newark Town Hall\, Market Place\, Newark\, Nottinghamshire\, NG24 1DU
CATEGORIES:Book Talk
ATTACH;FMTTYPE=image/png:https://www.newarkbookfestival.org.uk/wp-content/uploads/2025/05/The-Brain-at-Rest.png
END:VEVENT
BEGIN:VEVENT
DTSTART;TZID=UTC:20250712T100000
DTEND;TZID=UTC:20250712T120000
DTSTAMP:20260420T003252
CREATED:20250516T133345Z
LAST-MODIFIED:20250516T133345Z
UID:6277-1752314400-1752321600@www.newarkbookfestival.org.uk
SUMMARY:2025 Summer Reading Challenge - Story Garden
DESCRIPTION:The World Famous Story Emporium is putting on gardening gloves and wellies and loading up its wheelbarrow with pens and paper for some story-inspired green-fingered crafty fun. Join Ally Pally Arts in sowing stories and harvesting happy endings at Newark Library to launch the Summer Reading Challenge. \nNo need to book\, drop into Newark Library and enjoy this free event.
URL:https://www.newarkbookfestival.org.uk/event/2025-summer-reading-challenge-story-garden/
LOCATION:Newark Library Children’s Area\, Beaumond Gardens\, Balderton Gate\, Newark\, NG24 1UW
CATEGORIES:Family Friendly,Free Event
ATTACH;FMTTYPE=image/png:https://www.newarkbookfestival.org.uk/wp-content/uploads/2025/05/Summer-Reading-Challenge.png
END:VEVENT
BEGIN:VEVENT
DTSTART;TZID=UTC:20250712T100000
DTEND;TZID=UTC:20250712T120000
DTSTAMP:20260420T003252
CREATED:20250516T134050Z
LAST-MODIFIED:20250516T134235Z
UID:6283-1752314400-1752321600@www.newarkbookfestival.org.uk
SUMMARY:Young Ambassadors Writing Workshop
DESCRIPTION:An exclusive event for Newark Book Festival’s Young Ambassadors and keen writers\, bursting with ideas!  \nDo you love writing stories or poems? Join the creative workshop with poet\, performer and educator Leanne Moden and shape your ideas into your new story or poem. \nIt’s fun\, it’s friendly\, and it’s all about finding your voice and making your writing the best that it can be! \nExclusive event for Young Ambassadors. Email hello@newarkbookfestival.co.uk to book your space. \nFind out more about how you can join to become a Young Ambassador next year here.  \n 
URL:https://www.newarkbookfestival.org.uk/event/young-ambassadors-writing-workshop/
LOCATION:Newark Library Meeting Room\, Beaumond Gardens\, Balderton Gate\, Newark\, NG24 1UW\, United Kingdom
CATEGORIES:Free Event,Teen & Young Adult,Workshop
ATTACH;FMTTYPE=image/jpeg:https://www.newarkbookfestival.org.uk/wp-content/uploads/2024/05/Young-Ambassadors-Website-Header.jpg
END:VEVENT
BEGIN:VEVENT
DTSTART;TZID=UTC:20250712T110000
DTEND;TZID=UTC:20250712T120000
DTSTAMP:20260420T003252
CREATED:20250516T134523Z
LAST-MODIFIED:20250516T161222Z
UID:6241-1752318000-1752321600@www.newarkbookfestival.org.uk
SUMMARY:Byron's Manor: Birthplace of his poetry
DESCRIPTION:Discover how Southwell and Newark shaped Lord Byron’s early life and poetry\, in this richly illustrated talk featuring rare images and unpublished works. \nJoin Geoffrey Bond OBE\, DL\, FSA—Byron expert and author of Byron’s Manor: Birthplace of His Poetry—for a fascinating exploration of Lord Byron’s formative years and the places that shaped his earliest work. \nIn this special Newark Book Festival event\, Bond draws on decades of research and personal insight to offer a fresh perspective on Byron’s early life in Southwell. Speaking from the rare vantage point of someone who has lived in Burgage Manor—Byron’s Southwell residence—for over 30 years\, Bond takes audiences through the poet’s time in Nottinghamshire\, where he wrote and published his first four volumes of poetry. He also explores Byron’s connection to Newark\, where his early works were printed by Samuel Ridge. \nWhether you’re a lover of poetry\, literary history\, or local heritage\, this event offers a rare chance to step into Byron’s world—and the rooms where it all began.
URL:https://www.newarkbookfestival.org.uk/event/byrons-manor-birthplace-of-his-poetry/
LOCATION:Tudor Hall\, National Civil War Centre\, National Civil War Centre\, 14 Appleton Gate\, Newark\, Nottinghamshire\, NG24 1JY
CATEGORIES:Book Talk
ATTACH;FMTTYPE=image/png:https://www.newarkbookfestival.org.uk/wp-content/uploads/2025/05/Byrons-Manor.png
END:VEVENT
BEGIN:VEVENT
DTSTART;TZID=UTC:20250712T113000
DTEND;TZID=UTC:20250712T120000
DTSTAMP:20260420T003252
CREATED:20250516T162711Z
LAST-MODIFIED:20250516T162711Z
UID:6299-1752319800-1752321600@www.newarkbookfestival.org.uk
SUMMARY:Bookbench Storytime: Newark By Day/Night Bench
DESCRIPTION:Join Newark Book Festival’s Young Ambassadors for a free storytime session at the Newark By Day/Night Bookbench.  \nYou’ll find our magical Young Ambassador storytellers and the BookBench opposite Letsxcape inside Newark Town Hall. Go through the Market Place entrance and you won’t miss it!  \nIt’s a FREE event! Just pop along on the day to enjoy our stories.  \n 
URL:https://www.newarkbookfestival.org.uk/event/bookbench-storytime-newark-by-day-night-bench/
LOCATION:Newark Town Hall\, Newark Town Hall\, Market Place\, Newark\, Nottinghamshire\, NG24 1DU
CATEGORIES:Book Reading,Family Friendly,Free Event
ATTACH;FMTTYPE=image/jpeg:https://www.newarkbookfestival.org.uk/wp-content/uploads/2025/05/Storytime-DayNight-Bench.jpg
END:VEVENT
BEGIN:VEVENT
DTSTART;TZID=UTC:20250712T120000
DTEND;TZID=UTC:20250712T140000
DTSTAMP:20260420T003252
CREATED:20250516T163717Z
LAST-MODIFIED:20250516T163718Z
UID:6306-1752321600-1752328800@www.newarkbookfestival.org.uk
SUMMARY:Bookbench Storytime: Castles in the Air Bench
DESCRIPTION:Continuing the Dragons and Fairytale theme from Inspired Learning and Music teams’ event\, Dragons & Fairytale Fun. Join storyteller Nicky Rafferty (at 12pm and 1pm) and our festival’s Young Ambassadors (at 2pm) for some mythical\, magical\, made-up storytime fun at the Castle in the Air Bookbench found inside Buttermarket.  \nIdeal for story-lovers aged 2 – 10 years
URL:https://www.newarkbookfestival.org.uk/event/bookbench-storytime-castles-in-the-air-bench/
LOCATION:Inspire\, Newark Buttermarket (upstairs)
CATEGORIES:Family Friendly,Free Event
ATTACH;FMTTYPE=image/jpeg:https://www.newarkbookfestival.org.uk/wp-content/uploads/2025/05/Bookbench-Storytime-Castles-in-the-Air.jpg
END:VEVENT
BEGIN:VEVENT
DTSTART;TZID=UTC:20250712T120000
DTEND;TZID=UTC:20250712T160000
DTSTAMP:20260420T003252
CREATED:20250516T163407Z
LAST-MODIFIED:20250516T184600Z
UID:6249-1752321600-1752336000@www.newarkbookfestival.org.uk
SUMMARY:Dragons and Fairytale Fun
DESCRIPTION:Join the Inspire Learning and Music teams in a Dragons and Fairytale themed afternoon\, with drop-in arts and crafts\, have-a-go music sessions and meet Sapphire the Dragon and her friend Sparky. \nMake a fire-breathing paper dragon\, fold your own origami frog prince\, and sit down with local picture book illustrator Vicky Kuhn for some fairytale colouring in. Create some dragon cartoons with the Doodling Poet Chris White. Write a funny\, happy or sad poem about\, ‘What a Dragon would say’\, and make your dragon puppets and fairytale tower or castle to take home. \nPerfect for any aged creative!
URL:https://www.newarkbookfestival.org.uk/event/dragons-and-fairytale-fun/
LOCATION:Inspire\, Newark Buttermarket (upstairs)
CATEGORIES:Family Friendly,Free Event
ATTACH;FMTTYPE=image/png:https://www.newarkbookfestival.org.uk/wp-content/uploads/2025/05/Inspire-Dragons-Fairytale-Fun.png
END:VEVENT
BEGIN:VEVENT
DTSTART;TZID=UTC:20250712T123000
DTEND;TZID=UTC:20250712T133000
DTSTAMP:20260420T003252
CREATED:20250516T165621Z
LAST-MODIFIED:20250516T174237Z
UID:6247-1752323400-1752327000@www.newarkbookfestival.org.uk
SUMMARY:Georgian Creativity & Artistry with Essie Fox and Laura Shepherd-Robinson
DESCRIPTION:Step into the glittering\, shadowy world of 18th-century intrigue\, creativity\, and scandal as two of today’s most exciting historical fiction authors\, Essie Fox and Laura Shepherd-Robinson\, join Dr Tim Rideout for a lively and illuminating conversation. \nFrom the opulent palazzos of Venice to the bustling streets of Georgian London\, this event dives into the drama\, deception\, and artistic flair of a time when danger and beauty walked hand in hand. \nEssie Fox\, bestselling author of The Fascination\, returns with her new book\, Dangerous—a bold reimagining of Lord Byron himself as a reluctant detective\, embroiled in a deadly mystery amid the Venetian elite. Blending fact and fiction\, Fox captures Byron’s wit\, scandal\, and complexity in a gothic murder tale worthy of the poet’s infamous reputation. \nLaura Shepherd-Robinson\, Sunday Times bestselling author of The Square of Sevens\, presents her latest novel\, The Art of a Lie. Set in 1749\, it follows Hannah Cole\, a struggling widow and confectioner whose life is upended by secrets\, murder\, and the emergence of a delicious new invention: iced cream. Rich in period detail\, suspense\, and atmosphere\, it’s a thrilling story of deception\, survival\, and reinvention. \nJoin Essie and Laura at Newark Town Hall for rich discussion\, insight into researching and writing historical fiction\, and a glimpse into the artistry behind these vivid\, twist-filled tales. \nA book signing will follow the talk—don’t miss your chance to meet the authors and pick up a signed copy of your next favourite read!
URL:https://www.newarkbookfestival.org.uk/event/georgian-creativity-artistry/
LOCATION:Newark Town Hall\, Newark Town Hall\, Market Place\, Newark\, Nottinghamshire\, NG24 1DU
CATEGORIES:Book Talk
ATTACH;FMTTYPE=image/png:https://www.newarkbookfestival.org.uk/wp-content/uploads/2025/05/Georgian-Creativity-Artistry.png
END:VEVENT
BEGIN:VEVENT
DTSTART;TZID=UTC:20250712T143000
DTEND;TZID=UTC:20250712T153000
DTSTAMP:20260420T003252
CREATED:20250516T174849Z
LAST-MODIFIED:20250516T174850Z
UID:6253-1752330600-1752334200@www.newarkbookfestival.org.uk
SUMMARY:Creative Battle: Stories\, Stitches & Sketches
DESCRIPTION:Four bold creatives. One stage. Endless inspiration. \nCreative Battle brings together a dynamic panel of artists from across the creative spectrum—each with a unique approach to storytelling\, design\, and imagination—for a lively and insightful on-stage showdown. Expect friendly rivalry\, candid discussion\, and plenty of laughter as they debate the meaning of creativity\, where ideas come from\, and what it really takes to bring a vision to life. \nOn the panel: \nChris Shepherd\, writer\, artist\, filmmaker\, and British comedy legend\, is known for his award-winning short films\, animated collaborations\, and debut graphic novel Anfield—a visual journey into memory\, identity\, and Liverpool culture. \nGillie Ford\, beloved contestant from The Great British Sewing Bee\, stitches stories into every design\, bringing creativity to life through colour\, fabric\, and flair. Her fashion-forward perspective on craft is both expressive and empowering. \nEleanor Tomlinson\, the illustrator behind the viral “Jubilee Ma’amalade Tea” artwork\, channels the beauty of the Yorkshire countryside into her heartwarming and globally celebrated illustrations. From wildlife to royalty\, Eleanor’s work brings charm and storytelling to every image. \nLucy Mangan\, celebrated journalist and author of Bookworm and its follow-up Bookish\, is a fierce defender of the written word. Her sharp wit and deep love for books have made her a leading voice in cultural commentary and literary life. \nTogether\, these creative powerhouses will go head-to-head\, sharing their inspirations\, challenges\, and creative quirks in a conversation led by Dr. Tim Rideout. Whether you’re an artist\, reader\, crafter or thinker—this is a vibrant celebration of imagination in all its forms. \nWho will win the battle of creativity? The audience decides.
URL:https://www.newarkbookfestival.org.uk/event/creative-battle-stories-stitches-sketches/
LOCATION:Newark Town Hall\, Newark Town Hall\, Market Place\, Newark\, Nottinghamshire\, NG24 1DU
CATEGORIES:Book Talk
ATTACH;FMTTYPE=image/png:https://www.newarkbookfestival.org.uk/wp-content/uploads/2025/05/Creative-Battle.png
END:VEVENT
BEGIN:VEVENT
DTSTART;TZID=UTC:20250712T190000
DTEND;TZID=UTC:20250712T200000
DTSTAMP:20260420T003252
CREATED:20250516T175004Z
LAST-MODIFIED:20250516T175004Z
UID:6255-1752346800-1752350400@www.newarkbookfestival.org.uk
SUMMARY:Pleasantly Disturbed - Interview with Lee Stuart Evans
DESCRIPTION:Join Newark Book Festival for an unmissable event as top TV comedy writer Lee Stuart Evans sits down with author and interviewer Nick Quantrill to talk about his hilarious and heartfelt new novel\, Pleasantly Disturbed an hilarious 1980s Nottinghamshire-set novel full of music\, mystery\, and heart. \nWith a comedy career spanning shows like 8 Out of 10 Cats Does Countdown\, The Jonathan Ross Show\, and I’m A Celebrity…\, Lee brings his trademark wit and warmth to the page in a story packed with big laughs\, unforgettable characters\, and a killer soundtrack. \nSet in the late 1980s\, Pleasantly Disturbed follows Robin—a Simple Minds-obsessed dreamer with zero musical talent—and Fliss\, a brilliant but shy musical prodigy. When they’re drawn into a bizarre mystery involving fast cars\, a derelict railway yard\, and a murder in the middle of Sherwood Forest\, the result is part comedy caper\, part coming-of-age\, and entirely feel-good fiction. \nExpect a lively\, laugh-out-loud conversation about writing for comedy legends\, growing up in the East Midlands\, and the joys of 80s nostalgia—plus a few behind-the-scenes tales from TV and publishing. \nDescribed by Patrick Kielty as “alive and kicking with big laughs and an even bigger heart\,” Pleasantly Disturbed is fast becoming a festival favourite. Stick around after the talk for a book signing and a chance to meet the man behind the mayhem!
URL:https://www.newarkbookfestival.org.uk/event/pleasantly-disturbed-interview-with-lee-stuart-evans/
LOCATION:Newark Town Hall\, Newark Town Hall\, Market Place\, Newark\, Nottinghamshire\, NG24 1DU
CATEGORIES:Book Talk
ATTACH;FMTTYPE=image/png:https://www.newarkbookfestival.org.uk/wp-content/uploads/2025/05/The-Brain-at-Rest-2.png
END:VEVENT
END:VCALENDAR