BEGIN:VCALENDAR
VERSION:2.0
PRODID:-//Newark Book Festival - ECPv6.14.1//NONSGML v1.0//EN
CALSCALE:GREGORIAN
METHOD:PUBLISH
X-WR-CALNAME:Newark Book Festival
X-ORIGINAL-URL:https://www.newarkbookfestival.org.uk
X-WR-CALDESC:Events for Newark Book Festival
REFRESH-INTERVAL;VALUE=DURATION:PT1H
X-Robots-Tag:noindex
X-PUBLISHED-TTL:PT1H
BEGIN:VTIMEZONE
TZID:UTC
BEGIN:STANDARD
TZOFFSETFROM:+0000
TZOFFSETTO:+0000
TZNAME:UTC
DTSTART:20250101T000000
END:STANDARD
END:VTIMEZONE
BEGIN:VEVENT
DTSTART;VALUE=DATE:20250710
DTEND;VALUE=DATE:20250714
DTSTAMP:20260420T031912
CREATED:20250515T205016Z
LAST-MODIFIED:20250516T190743Z
UID:6293-1752105600-1752451199@www.newarkbookfestival.org.uk
SUMMARY:The Zone
DESCRIPTION:Chill\, create\, be you at The Zone – Zest Theatre’s award-winning pop-up community space\, open after school and over the festival weekend\, and brought to you by Newark Creates. From laidback hangouts and high-energy workshops with pro artists to gaming\, book corners\, and adrenaline-pumping parties – you decide how to spend your time in The Zone. \nOpen after school and across the weekend\, it’s the perfect place to chill\, create\, and be you. \nThursday 10th July | 3pm - 6pm\nFriday 11th July | 3pm - 6pm\nSaturday 12th July | 11am - 5pm\nSunday 13th July | 11am - 5pm \n#GetInTheZone
URL:https://www.newarkbookfestival.org.uk/event/the-zone/
LOCATION:Newark Market Place\, Newark Royal Market\, Market Place\, Newark\, Nottinghamshire\, NG24 1DU
CATEGORIES:Free Event,Teen & Young Adult
ATTACH;FMTTYPE=image/png:https://www.newarkbookfestival.org.uk/wp-content/uploads/2025/05/The-Zone.png
END:VEVENT
BEGIN:VEVENT
DTSTART;VALUE=DATE:20250712
DTEND;VALUE=DATE:20250714
DTSTAMP:20260420T031912
CREATED:20250515T215036Z
LAST-MODIFIED:20250515T215036Z
UID:6272-1752278400-1752451199@www.newarkbookfestival.org.uk
SUMMARY:Literature Village
DESCRIPTION:Saturday 12th July 9.30am – 4pm \nWonderful local bookish crafts and trinkets\, stories and books of all genres. Find the Literature Village under the red and white stripes of the Newark Royal Market stalls and\, due to the popularity of the event\, spilling between the colonnades inside the Buttermarket. \nSunday 13th July 10am – 3pm \nJoin in as the Literature Village takes over the entire Royal Market for the day with over 60 stalls\, and family fun in the dedicated Children’s Zone. Find a treasure trove of all things literary related including crafts\, books\, poetry\, authors and more. Sponsored by The Coffeehouse Writer. \nLook out for the roaming street performers and their hula hoops on Sunday and join in the fun!
URL:https://www.newarkbookfestival.org.uk/event/literature-village-2025/
LOCATION:Newark Market Place\, Newark Royal Market\, Market Place\, Newark\, Nottinghamshire\, NG24 1DU
CATEGORIES:Market
ATTACH;FMTTYPE=image/png:https://www.newarkbookfestival.org.uk/wp-content/uploads/2025/05/Literature-Village.png
END:VEVENT
BEGIN:VEVENT
DTSTART;TZID=UTC:20250713T100000
DTEND;TZID=UTC:20250713T150000
DTSTAMP:20260420T031912
CREATED:20250516T175346Z
LAST-MODIFIED:20250516T184607Z
UID:6286-1752400800-1752418800@www.newarkbookfestival.org.uk
SUMMARY:En Plein Aire - Paint Club with Urban Canvas
DESCRIPTION:Paint what you see and explore the joy of creating art in the open air—just like the French Impressionists! Materials provided\, no experience needed. Just drop in and get creative.
URL:https://www.newarkbookfestival.org.uk/event/en-plein-aire-paint-club-with-urban-canvas/
LOCATION:Newark Market Place\, Newark Royal Market\, Market Place\, Newark\, Nottinghamshire\, NG24 1DU
CATEGORIES:Family Friendly,Free Event
ATTACH;FMTTYPE=image/png:https://www.newarkbookfestival.org.uk/wp-content/uploads/2025/05/En-Plein-Aire-Urban-Canvas.png
END:VEVENT
BEGIN:VEVENT
DTSTART;TZID=UTC:20250713T103000
DTEND;TZID=UTC:20250713T113000
DTSTAMP:20260420T031912
CREATED:20250516T175706Z
LAST-MODIFIED:20250705T124545Z
UID:6258-1752402600-1752406200@www.newarkbookfestival.org.uk
SUMMARY:Trio of Creative Criminals
DESCRIPTION:Enjoy talks about page-turning plots and a touch of dark humour in this thrilling panel featuring three of crime fiction’s most compelling voices. M.J. Arlidge\, T.M. Logan\, and Ian Moore come together for a high-stakes conversation on killers\, kidnappers\, and clever detectives—hosted by crime genre expert Dr Tim Rideout. \nT.M. Logan\, author of multiple Sunday Times bestsellers\, brings The Daughter\, a pulse-pounding new thriller about a missing university student and a family plunged into a nightmare. Packed with twists\, emotion\, and race-against-time intensity\, Logan’s work continues to captivate millions of readers around the world. \nM.J. Arlidge\, master of the gritty procedural\, returns with Into the Fire\, the latest in his bestselling DI Helen Grace series. This time\, Helen is off the force but far from out of action\, thrust into a violent mystery after witnessing an attack and kidnapping. Tense\, thrilling\, and unrelenting\, Arlidge proves once again that justice doesn’t always wear a badge. \nPlease be aware that unfortunately Ian Moore will not be able to attend this event.\nIan Moore\, bestselling author of the Follet Valley Mysteries\, offers a lighter take on murder with his latest novel Death and Boules. Set in sun-soaked rural France\, this witty and charming cosy mystery follows amateur sleuths Richard and Valérie as a town twinning event turns into a deadly affair. \nFrom brutal suspense to darkly comic whodunnits\, this event promises a lively and layered discussion about the craft of crime writing\, character creation\, and keeping readers hooked. A book signing will follow the event. \nWhether you’re a fan of fast-paced thrillers or cosy conundrums\, there’s a crime for everyone in this captivating session.
URL:https://www.newarkbookfestival.org.uk/event/trio-of-creative-criminals/
LOCATION:Newark Town Hall\, Newark Town Hall\, Market Place\, Newark\, Nottinghamshire\, NG24 1DU
CATEGORIES:Book Talk
ATTACH;FMTTYPE=image/png:https://www.newarkbookfestival.org.uk/wp-content/uploads/2025/05/Creative-Criminals.png
END:VEVENT
BEGIN:VEVENT
DTSTART;TZID=UTC:20250713T110000
DTEND;TZID=UTC:20250713T120000
DTSTAMP:20260420T031912
CREATED:20250516T180111Z
LAST-MODIFIED:20250604T141917Z
UID:6262-1752404400-1752408000@www.newarkbookfestival.org.uk
SUMMARY:Oaklore - Jules Acton
DESCRIPTION:What links Robin Hood\, Shakespeare\, fungi\, and folklore? Discover the surprising and magical history of Britain’s most iconic tree in this captivating book talk with Jules Acton\, author of Oaklore: Adventures in a World of Extraordinary Trees. \nA former journalist and long-time environmental advocate\, Jules has worked with the Woodland Trust\, the Wildlife Trusts\, and WaterAid. In Oaklore\, Jules Acton explores how oak trees have shaped British culture\, mythology\, and the natural world.  \nFrom their role in crafting ancient ink to their place in poetry\, sorcery\, and sacred rituals\, oaks have inspired stories\, art\, songs\, and traditions for generations. Jules’ talk will feature fascinating insights from the book\, including encounters with legendary trees like Sherwood’s Medusa Oak and Cheshire’s Marton Oak\, and will include tips on reconnecting with nature in your own life. \nJoin in for a lively\, thought-provoking journey through tangled roots and timeless tales—an event perfect for nature lovers\, history buffs\, and curious minds alike. The talk will be followed by a book signing. \nLet yourself be enchanted by the oak—king of the woods and keeper of countless stories.
URL:https://www.newarkbookfestival.org.uk/event/oaklore-jules-acton/
LOCATION:Tudor Hall\, National Civil War Centre\, National Civil War Centre\, 14 Appleton Gate\, Newark\, Nottinghamshire\, NG24 1JY
CATEGORIES:Family Friendly,Trails,Workshop
ATTACH;FMTTYPE=image/png:https://www.newarkbookfestival.org.uk/wp-content/uploads/2025/05/Oaklore-Jules-Acton.png
END:VEVENT
BEGIN:VEVENT
DTSTART;TZID=UTC:20250713T110000
DTEND;TZID=UTC:20250713T123000
DTSTAMP:20260420T031912
CREATED:20250516T181202Z
LAST-MODIFIED:20250707T102642Z
UID:6260-1752404400-1752409800@www.newarkbookfestival.org.uk
SUMMARY:Writing The World - Walk & Workshop
DESCRIPTION:Bring your imagination and your walking feet\, and get ready to Write the World\, in this walk and writing workshop as part of Newark Book Festival. Where every step uncovers a new idea.   \nThis unique session invites writers aged 9+ and their parents to take inspiration from their surroundings as they walk through Newark’s historic streets and green spaces. Along the way\, Amy will guide you through a series of writing exercises designed to sharpen your use of sensory description\, detail\, and contrast—all essential skills for crafting vivid\, engaging stories. \nBy writing on location\, you’ll experience how setting can influence atmosphere and bring your writing to life in new and unexpected ways. Let the real world feed your imagination. \nPractice important writing techniques and you walk around Newark\, such as using sensory description\, capturing detail and creating contrast. Expect fresh air\, creative flow\, and plenty of moments that might just spark your next big idea. \nBring a notebook\, a pen\, and comfortable walking shoes—and let Newark be your muse.\nMeet Note everyone will now meet outside the Castle Gates opposite Gannets.
URL:https://www.newarkbookfestival.org.uk/event/writing-the-world-walk-workshop/
LOCATION:Newark Castle\, Newark Castle\, Castlegate\, Newark\, NG24 1BG
CATEGORIES:Family Friendly,Workshop
ATTACH;FMTTYPE=image/png:https://www.newarkbookfestival.org.uk/wp-content/uploads/2025/05/Writing-the-World-Walking-Workshop.png
END:VEVENT
BEGIN:VEVENT
DTSTART;TZID=UTC:20250713T123000
DTEND;TZID=UTC:20250713T133000
DTSTAMP:20260420T031912
CREATED:20250516T181739Z
LAST-MODIFIED:20250527T083503Z
UID:6264-1752409800-1752413400@www.newarkbookfestival.org.uk
SUMMARY:Newark Town Centre Tree Walk
DESCRIPTION:Join Adam Cormack of the Woodland Trust\, in partnership with Newark and Sherwood District Council\, for a relaxing and informative tree walk through Newark town centre. \nDiscover the hidden stories and natural beauty of Newark’s green spaces as Adam leads you on a gentle walking tour through the Friary Gardens\, Sherwood Avenue\, and Library Gardens. Learn how trees shape our urban environments\, explore different species\, and hear about the work being done to protect and enhance these vital green spaces for future generations. \nPerfect for nature lovers\, curious minds\, and anyone looking to see Newark through a fresh lens\, this walk offers insight into both the ecological and cultural importance of trees in our everyday landscapes. \nPlease wear comfortable walking shoes\, dress for the weather\, and note that children must be accompanied by an adult. \nSpaces are strictly limited to 15 participants\, so advance booking is essential. Secure your spot early and enjoy a mindful walk filled with nature\, knowledge\, and community connection. \nMeet at Newark Town Hall steps near the Market Place.
URL:https://www.newarkbookfestival.org.uk/event/newark-town-centre-tree-walk/
LOCATION:Newark Town Hall\, Newark Town Hall\, Market Place\, Newark\, Nottinghamshire\, NG24 1DU
CATEGORIES:Sold Out
ATTACH;FMTTYPE=image/png:https://www.newarkbookfestival.org.uk/wp-content/uploads/2025/05/Newark-Tree-Walk.png
END:VEVENT
BEGIN:VEVENT
DTSTART;TZID=UTC:20250713T123000
DTEND;TZID=UTC:20250713T133000
DTSTAMP:20260420T031912
CREATED:20250516T182053Z
LAST-MODIFIED:20250516T182053Z
UID:6268-1752409800-1752413400@www.newarkbookfestival.org.uk
SUMMARY:One Step Ahead - C.L. Peache
DESCRIPTION:Set against the dramatic backdrop of Jersey\, this twist-filled story follows a group of friends reunited for a charity walk—only to be confronted by the unresolved death of one of their own. \nIn conversation with fellow author Maria Dziedzan\, Clair will share her journey from self-published writer to securing a three-book publishing deal\, and reflect on writing across genres\, crafting layered characters\, and the challenges (and joys!) of working from her narrowboat. \nExpect a lively and insightful discussion about how place\, memory\, and mystery weave together in her work\, as well as behind-the-scenes stories of what it takes to bring a suspenseful novel like One Step Ahead to life. \nPerfect for lovers of psychological thrillers\, gripping whodunnits\, and those curious about the writing and publishing process\, this free event is a wonderful opportunity to meet a rising name in mystery fiction. \nBook signing to follow – copies of One Step Ahead available to purchase on the day. Don’t miss your chance to be part of this page-turning conversation at Newark Book Festival. \nFree event to book\, email clpeache@gmail.com
URL:https://www.newarkbookfestival.org.uk/event/one-step-ahead-c-l-peache/
LOCATION:Tudor Hall\, National Civil War Centre\, National Civil War Centre\, 14 Appleton Gate\, Newark\, Nottinghamshire\, NG24 1JY
CATEGORIES:Book Talk,Free Event
ATTACH;FMTTYPE=image/png:https://www.newarkbookfestival.org.uk/wp-content/uploads/2025/05/one-Step-Ahead-C.L.Peache.png
END:VEVENT
BEGIN:VEVENT
DTSTART;TZID=UTC:20250713T130000
DTEND;TZID=UTC:20250713T140000
DTSTAMP:20260420T031912
CREATED:20250516T183114Z
LAST-MODIFIED:20250516T183114Z
UID:6281-1752411600-1752415200@www.newarkbookfestival.org.uk
SUMMARY:Rap School Poetic Flow with Rob Bradley
DESCRIPTION:In The Rap School\, Rob combines the power of poetry\, rhythm\, and performance to help young people find their voice through rap. Kicking things off with a live freestyle using words from the audience\, Rob sets the stage with his signature wit\, wordplay\, and infectious energy. \nExplore key techniques of rap writing\, from rhyme and rhythm to flow and lyricism\, and craft your own original verses during the workshop before taking to the stage to perform your rap in a supportive and inspiring atmosphere—boosting confidence and showcasing talent. \nRob has performed across the globe—from New York’s underground clubs to major festivals across Europe. He’s given multiple TEDx talks and is celebrated for his compelling storytelling and unmatched freestyle skills. Drawing on influences like The Fugees\, 2Pac and The Notorious B.I.G.\, Rob’s work is all about truth\, creativity\, and connection. \nPerfect for teens and young adults (and their parents\, too)\, this is a must-attend event for anyone into rap\, poetry\, or self-expression. No experience needed—just bring your energy and imagination. Recommended 7+
URL:https://www.newarkbookfestival.org.uk/event/rap-school-poetic-flow-with-rob-bradley/
LOCATION:Newark Town Hall\, Newark Town Hall\, Market Place\, Newark\, Nottinghamshire\, NG24 1DU
CATEGORIES:Family Friendly,Poetry,Teen & Young Adult,Workshop
ATTACH;FMTTYPE=image/png:https://www.newarkbookfestival.org.uk/wp-content/uploads/2025/05/Rap-School.png
END:VEVENT
BEGIN:VEVENT
DTSTART;TZID=UTC:20250713T130000
DTEND;TZID=UTC:20250713T140000
DTSTAMP:20260420T031912
CREATED:20250516T202602Z
LAST-MODIFIED:20250516T202602Z
UID:6506-1752411600-1752415200@www.newarkbookfestival.org.uk
SUMMARY:Stokes Coffee Roasting
DESCRIPTION:Watch beans roast to perfection and explore the craft\, care\, and creativity behind every fresh cup! \n 
URL:https://www.newarkbookfestival.org.uk/event/stokes-coffee-roasting/
LOCATION:Stokes Tea & Coffee\, Robin Hood Walk\, Newark-on-Trent\, Nottinghamshire\, NG24 1HX\, United Kingdom
CATEGORIES:Free Event
ATTACH;FMTTYPE=image/png:https://www.newarkbookfestival.org.uk/wp-content/uploads/2025/05/Stokes-Coffee-Roasting.png
END:VEVENT
BEGIN:VEVENT
DTSTART;TZID=UTC:20250713T140000
DTEND;TZID=UTC:20250713T150000
DTSTAMP:20260420T031912
CREATED:20250516T183246Z
LAST-MODIFIED:20250516T183307Z
UID:6266-1752415200-1752418800@www.newarkbookfestival.org.uk
SUMMARY:Crimes\, Clues & The Inside Man - Interview with Trevor Wood
DESCRIPTION:Get ready for a gripping dive into the dark and compelling world of crime fiction as award-winning author Trevor Wood joins crime fiction expert and interviewer Alex Hawley to discuss his latest novel\, The Inside Man—the powerful sequel to his acclaimed police procedural The Silent Killer. \nDCI Jack Parker is back\, and the stakes are higher than ever. Still hiding his diagnosis of early onset dementia\, Parker must navigate the demands of a complex and dangerous investigation while concealing the illness that threatens to unravel everything. Set in Newcastle\, this thrilling series brings raw authenticity\, emotional depth\, and a fresh twist to the genre. \nTrevor\, whose debut The Man on the Street won the CWA John Creasey New Blood Dagger\, has carved out a reputation for crime fiction that is bold\, compassionate\, and deeply human. His work blends gritty realism with unforgettable characters—none more so than Jack Parker\, a detective trying to outrun time while pursuing justice. \nGuiding the conversation is Alex Hawley\, a familiar face at Newark Book Festival and a passionate voice in the crime writing community. From his days as a blogger to becoming a regular judge and panellist across the UK festival circuit\, Alex brings insight\, humour\, and sharp questions to the stage. \nExpect insider stories\, thought-provoking discussion\, and a behind-the-scenes look at crafting a detective battling more than just criminals. A must for crime fans and lovers of character-driven fiction alike. Book signing to follow.
URL:https://www.newarkbookfestival.org.uk/event/crimes-clues-the-inside-man/
LOCATION:Tudor Hall\, National Civil War Centre\, National Civil War Centre\, 14 Appleton Gate\, Newark\, Nottinghamshire\, NG24 1JY
CATEGORIES:Book Talk
ATTACH;FMTTYPE=image/png:https://www.newarkbookfestival.org.uk/wp-content/uploads/2025/05/Crimes-Clues-The-Inside-Man-Trevor-Wood.png
END:VEVENT
BEGIN:VEVENT
DTSTART;TZID=UTC:20250713T140000
DTEND;TZID=UTC:20250713T150000
DTSTAMP:20260420T031912
CREATED:20250516T183608Z
LAST-MODIFIED:20250612T093515Z
UID:6297-1752415200-1752418800@www.newarkbookfestival.org.uk
SUMMARY:Sunday News
DESCRIPTION:A special edition of our monthly Morning News event with Newark Book Festival board members Mary and Richard Haig. \nPlease email maryprimrose47@gmail.com  to book your tickets as spaces are limited and this event needs to be booked in advance. \nPlease note that this event is held upstairs at Gannet Café and unfortunately has no step-free access.\n \n 
URL:https://www.newarkbookfestival.org.uk/event/sunday-news/
LOCATION:Gannets Bistro\, Gannets Bistro\, 35 Castle Gate\, Newark\, NG24 1AZ\, United Kingdom
ATTACH;FMTTYPE=image/png:https://www.newarkbookfestival.org.uk/wp-content/uploads/2025/05/Sunday-News.png
END:VEVENT
BEGIN:VEVENT
DTSTART;TZID=UTC:20250713T140000
DTEND;TZID=UTC:20250713T150000
DTSTAMP:20260420T031912
CREATED:20250516T183742Z
LAST-MODIFIED:20250516T183742Z
UID:6279-1752415200-1752418800@www.newarkbookfestival.org.uk
SUMMARY:Inspired Anthology Launch Event
DESCRIPTION:Celebrate the launch of Inspired\, a brand-new anthology created by a talented local writing group who first met during creative writing courses at Inspire\, Newark Buttermarket. \nBorn from a shared love of storytelling and self-expression\, Inspired is a collaborative collection of poetry\, short fiction\, and creative non-fiction that reflects the diverse voices and imaginative spark of its contributors. This special event offers a chance to hear selected readings from the anthology and gain insight into the creative prompts and exercises that inspired the writers’ work. \nWhether you’re a writer yourself or simply enjoy discovering new talent\, this is a wonderful opportunity to support local creatives and experience an afternoon of heartfelt and original writing. \nDuring the launch\, you’ll have the chance to purchase Inspired at the special launch price of £5 (usual price £6.50). Both card and cash payments will be accepted. \nRefreshments will be provided\, and you’re warmly invited to stay\, chat\, and celebrate the group’s achievement in the place where it all began. No booking required just turn up on the day.  \nCome along to be inspired—and maybe even inspired to write yourself!
URL:https://www.newarkbookfestival.org.uk/event/inspired-anthology-launch-event/
LOCATION:Inspire\, Newark Buttermarket (upstairs)
CATEGORIES:Book Talk,Free Event
ATTACH;FMTTYPE=image/png:https://www.newarkbookfestival.org.uk/wp-content/uploads/2025/05/Inspired-Anthropology.png
END:VEVENT
BEGIN:VEVENT
DTSTART;TZID=UTC:20250713T153000
DTEND;TZID=UTC:20250713T163000
DTSTAMP:20260420T031912
CREATED:20250516T183958Z
LAST-MODIFIED:20250516T183958Z
UID:6270-1752420600-1752424200@www.newarkbookfestival.org.uk
SUMMARY:Love & Laughter\, Tea & Cake
DESCRIPTION:What better way to spend a summer afternoon than with cake\, tea\, and three of the UK’s most beloved romance authors? \nGet your tickets for an afternoon well spent in the elegant surroundings of Newark Town Hall’s stunning ballroom for a heartwarming and laughter-filled event featuring bestselling authors Cathy Bramley\, Cressida McLaughlin\, and Sue Moorcroft\, in conversation with festival favourite Dr Tim Rideout. \nLocal Nottinghamshire author Cathy Bramley brings her signature charm and humour with Somewhere Only We Know\, a tender and emotional read of a mother’s journey taking literal steps in her late-daughter’s memory\, on a gap year of her daughter’s dreams. \nCressida McLaughlin\, queen of uplifting contemporary romance\, shares her latest novel A Cornish Love Story. A second chance and forced-proximity romance with sparks flying in all directions.  \nAward-winning author Sue Moorcroft discusses Over the Sea to Skye\, the third in her Skye Sisters Trilogy\, weaving a beautifully rich and emotionally resonant story of love that will sweep you away to the wild Scottish coast. \nExpect a cosy\, candid chat about writing\, romance\, and creating stories that make readers swoon\, smile\, and reach for the tissues (in the best way). With an audience Q&A and book signing to follow\, this is a must-attend event for fans of love stories with heart. \nCome for the books\, stay for the tea and cake—leave with your next favourite read. \nTickets available until 6th July or until sold out. Please give any dietary requirements.
URL:https://www.newarkbookfestival.org.uk/event/love-laughter-tea-cake/
LOCATION:Newark Town Hall\, Newark Town Hall\, Market Place\, Newark\, Nottinghamshire\, NG24 1DU
CATEGORIES:Book Talk
ATTACH;FMTTYPE=image/png:https://www.newarkbookfestival.org.uk/wp-content/uploads/2025/05/Love-Laughter-Tea-Cake.png
END:VEVENT
BEGIN:VEVENT
DTSTART;TZID=UTC:20250713T190000
DTEND;TZID=UTC:20250713T210000
DTSTAMP:20260420T031912
CREATED:20250516T184406Z
LAST-MODIFIED:20250610T145530Z
UID:6274-1752433200-1752440400@www.newarkbookfestival.org.uk
SUMMARY:Steve's Stage - Open Mic Finale
DESCRIPTION:Close the festival with creativity\, connection\, and celebration at Steve’s Stage: Open Mic Final- a special event held in memory of the late Steve Cawte\, spoken word artist\, performance poet\, playwright\, drama teacher\, and a tireless champion of young voices and the arts.  \nHosted by Leanne Moden\, a Nottingham-based poet\, theatremaker\, and educator\, this finale is a celebration of expression\, community\, and the power of words\, just as Steve would have wanted.  \nCome to perform\, or simply listen and be inspired. Whether you’re a seasoned poet\, a passionate short story writer\, or just starting your creative journey\, take to the Newark Festival Stage to share your creation and be part of a supportive\, vibrant community of word-lovers. \nSteve’s words\, spirit\, and legacy will always be with us. RIP 1982–2024.
URL:https://www.newarkbookfestival.org.uk/event/steves-stage-open-mic-finale/
LOCATION:Newark Town Hall\, Newark Town Hall\, Market Place\, Newark\, Nottinghamshire\, NG24 1DU
CATEGORIES:Performance,Poetry
ATTACH;FMTTYPE=image/png:https://www.newarkbookfestival.org.uk/wp-content/uploads/2025/05/Steves-Stage.png
END:VEVENT
END:VCALENDAR