BEGIN:VCALENDAR
VERSION:2.0
PRODID:-//Newark Book Festival - ECPv6.14.1//NONSGML v1.0//EN
CALSCALE:GREGORIAN
METHOD:PUBLISH
X-WR-CALNAME:Newark Book Festival
X-ORIGINAL-URL:https://www.newarkbookfestival.org.uk
X-WR-CALDESC:Events for Newark Book Festival
REFRESH-INTERVAL;VALUE=DURATION:PT1H
X-Robots-Tag:noindex
X-PUBLISHED-TTL:PT1H
BEGIN:VTIMEZONE
TZID:UTC
BEGIN:STANDARD
TZOFFSETFROM:+0000
TZOFFSETTO:+0000
TZNAME:UTC
DTSTART:20240101T000000
END:STANDARD
END:VTIMEZONE
BEGIN:VEVENT
DTSTART;VALUE=DATE:20240601
DTEND;VALUE=DATE:20240715
DTSTAMP:20260420T151017
CREATED:20240531T114547Z
LAST-MODIFIED:20240613T142548Z
UID:5588-1717200000-1721001599@www.newarkbookfestival.org.uk
SUMMARY:Crack the Code: Detective Trail
DESCRIPTION:Barry the Bookworm has been kidnapped\, and the Newark Book Festival team have been desperately trying to find him in time for the Castle Family Day on Sunday 14th July. \nWe need your help to become a detective for the day\, follow the trail of clues left with various businesses and venues across Newark and let us know where you think he is. It’s a top-secret detective trail\, so gather your most trusted friends and ensure no businesses let slip to each other. We don’t want this news to reach the Bramley Newspaper! \nDon’t forget to bring your magnifying glass and notebook. \nHow to take part in the Crack the Code: Detective Trail\n\nRead the letter we’ve left for you to get started\nGet prepared by downloading and printing the clue sheet\, or use the digital form to add in your answers as you go along\nChoose your starting location\nFollow the trail around Newark\, doing from clue to clue\, until you have gathered them all\nSubmit your answer by email\n\nCorrectly discover where Barry the Bookworm has been kept prisoner and we’ll add you to the prize draw. All participants will be emailed a certificate of completion. \n  \nSTART THE DETECTIVE TRAIL
URL:https://www.newarkbookfestival.org.uk/event/crack-the-code-detective-trail/
LOCATION:Newark Town Centre\, NG24 1DU
CATEGORIES:Family Friendly,Free Event,Trails
ATTACH;FMTTYPE=image/jpeg:https://www.newarkbookfestival.org.uk/wp-content/uploads/2024/05/Crack-the-Code-Banner.jpg
END:VEVENT
BEGIN:VEVENT
DTSTART;VALUE=DATE:20240711
DTEND;VALUE=DATE:20240715
DTSTAMP:20260420T151017
CREATED:20240503T170428Z
LAST-MODIFIED:20240510T142618Z
UID:4999-1720656000-1721001599@www.newarkbookfestival.org.uk
SUMMARY:Literature Village Newark Market Place
DESCRIPTION:Meander along Newark’s Royal Market in the Literature Village and soak up the festival vibes where you can meet authors\, publishers\, charities\, crafty artisans and much more! \nHere you’ll find street performances\, music and workshops\, and the Festival Stall where you can pick up your very own Newark Book Festival merchandise and sign up to become a Festival Friend. \nThursday 11th July 10am – 3.30pm\nFriday 12th July 10am – 3.30pm\nSaturday 13th July 9.30am – 4pm\nSunday 14th July 10am – 3.30pm \n 
URL:https://www.newarkbookfestival.org.uk/event/newark-book-festival-literature-village/
LOCATION:Newark Market Place\, Newark Royal Market\, Market Place\, Newark\, Nottinghamshire\, NG24 1DU
CATEGORIES:Family Friendly,Free Event,Market
ATTACH;FMTTYPE=image/jpeg:https://www.newarkbookfestival.org.uk/wp-content/uploads/2024/03/Newark-Market-Feature-Box.jpg
END:VEVENT
BEGIN:VEVENT
DTSTART;TZID=UTC:20240711T100000
DTEND;TZID=UTC:20240711T104000
DTSTAMP:20260420T151017
CREATED:20240510T090021Z
LAST-MODIFIED:20240510T220110Z
UID:4936-1720692000-1720694400@www.newarkbookfestival.org.uk
SUMMARY:Little Roars Musical Play
DESCRIPTION:Little Roars Musical Play is a fun and engaging event filled with songs\, puppets\, bubbles\, instruments and more for your kids. \nHead down to St Mary Magdelene Church on the opening morning of Newark Book Festival for a free musical play session\, led by Charlotte Lion. \nSuitable for ages 0-5 years.
URL:https://www.newarkbookfestival.org.uk/event/little-roars-musical-play/
LOCATION:St Mary Magdalene Church\, Church Walk\, Newark\, NG24 1JS
CATEGORIES:Family Friendly,Free Event,Music
ATTACH;FMTTYPE=image/jpeg:https://www.newarkbookfestival.org.uk/wp-content/uploads/2024/05/Little-Roars-Musical-Play.jpg
END:VEVENT
BEGIN:VEVENT
DTSTART;TZID=UTC:20240712T100000
DTEND;TZID=UTC:20240712T153000
DTSTAMP:20260420T151017
CREATED:20240510T090008Z
LAST-MODIFIED:20240510T215755Z
UID:4526-1720778400-1720798200@www.newarkbookfestival.org.uk
SUMMARY:Play With Your Food - Ally Pally Arts Story Emporium
DESCRIPTION:Join Ally Pally Arts at the Literature Village within Newark Market Place at their fictional food market stall and get creative playing with your food! \nThey’re stocking up on stolen tarts\, escapee gingerbread men\, giant turnips\, porridge (hot\, cold and just right) and golden eggs\, and they would love you to help them magic up a stall jam-packed with more made-up menus\, delicious delicacies and gruesome goodies from your favourite stories. \nJust bring yourselves and your wonderful imaginations and we craft up a feast fit for a fairytale. Suitable for all ages\, this “sticky hands” free creative workshop is perfect for the home-educated community. \nNo need to book tickets! Just turn up and let your imaginations run wild at the Story Emporium this summer.
URL:https://www.newarkbookfestival.org.uk/event/ally-pally-arts-story-emporium/
LOCATION:Newark Market Place\, Newark Royal Market\, Market Place\, Newark\, Nottinghamshire\, NG24 1DU
CATEGORIES:Family Friendly,Free Event
ATTACH;FMTTYPE=image/jpeg:https://www.newarkbookfestival.org.uk/wp-content/uploads/2024/05/Play-with-your-food-ally-pally-arts-story-emporium.jpg
END:VEVENT
BEGIN:VEVENT
DTSTART;TZID=UTC:20240713T093000
DTEND;TZID=UTC:20240713T103000
DTSTAMP:20260420T151017
CREATED:20240510T090042Z
LAST-MODIFIED:20240613T142339Z
UID:4960-1720863000-1720866600@www.newarkbookfestival.org.uk
SUMMARY:Kids VS Adults Poetry Workshop with Joseph Coelho
DESCRIPTION:In this fun and interactive workshop\, where kids and adults go head to head\, children’s author and poet Joseph Coelho gives you the tools and inspiration to write poetry about any topic! \nSuitable for children aged 7 – 11 years & their grown ups.
URL:https://www.newarkbookfestival.org.uk/event/kids-vs-adults-poetry-workshop-with-joseph-coelho/
LOCATION:Inspire\, Newark Buttermarket (upstairs)
CATEGORIES:Family Friendly,Poetry,Workshop
ATTACH;FMTTYPE=image/jpeg:https://www.newarkbookfestival.org.uk/wp-content/uploads/2024/05/Poetry-Workshop-Joseph-Coelho.jpg
END:VEVENT
BEGIN:VEVENT
DTSTART;TZID=UTC:20240713T100000
DTEND;TZID=UTC:20240713T110000
DTSTAMP:20260420T151017
CREATED:20240510T090030Z
LAST-MODIFIED:20240606T072149Z
UID:4965-1720864800-1720868400@www.newarkbookfestival.org.uk
SUMMARY:This Rock is Mine - Alice McKinley
DESCRIPTION:Joining us for our Summer Reading Challenge event this year is picture-book illustrator Alice McKinley with This Rock is Mine. \nAlice will read the heartwarming tale about a quarrel between two hilariously stubborn frogs and a rock they are both claiming to be theirs\, before live drawing and teaching kids (and adults alike) to draw their own amphibian friend. \nSuitable for children aged 3 – 7 years. \n  \n 
URL:https://www.newarkbookfestival.org.uk/event/this-rock-is-mine-alice-mckinley/
LOCATION:Beanblock\, Beanblock\, Unit 24\, 15 St Marks Place\, St Marks Lane\,\, Newark\, Nottinghamshire\, NG24 1XS
CATEGORIES:Family Friendly,Free Event
ATTACH;FMTTYPE=image/jpeg:https://www.newarkbookfestival.org.uk/wp-content/uploads/2024/05/Alice-McKinley.jpg
END:VEVENT
BEGIN:VEVENT
DTSTART;TZID=UTC:20240713T101500
DTEND;TZID=UTC:20240713T160000
DTSTAMP:20260420T151017
CREATED:20240503T125243Z
LAST-MODIFIED:20240510T195843Z
UID:4957-1720865700-1720886400@www.newarkbookfestival.org.uk
SUMMARY:Shed of Stories
DESCRIPTION:Capture the words and stories as they tumble out of a mysterious shed and onto the cobblestones of Newark Market Place. You’ll be leaving with wonderful tunes stuck in your head\, magical words in your minds\, and surrounded by laughter in this family-friendly story space packed with books and toys for all to enjoy. \nStorytelling sessions take place:\n10:15\, 11:15\, 12:15\, 1:15\, 2:15 and 3:15.
URL:https://www.newarkbookfestival.org.uk/event/shed-of-stories/
LOCATION:Newark Market Place\, Newark Royal Market\, Market Place\, Newark\, Nottinghamshire\, NG24 1DU
CATEGORIES:Family Friendly,Free Event
ATTACH;FMTTYPE=image/jpeg:https://www.newarkbookfestival.org.uk/wp-content/uploads/2024/05/Shed-of-Stories.jpg
END:VEVENT
BEGIN:VEVENT
DTSTART;TZID=UTC:20240713T113000
DTEND;TZID=UTC:20240713T140000
DTSTAMP:20260420T151017
CREATED:20240503T170815Z
LAST-MODIFIED:20240712T195731Z
UID:4972-1720870200-1720879200@www.newarkbookfestival.org.uk
SUMMARY:Saving Hanno Reading & Workshop - Miriam Halahmy
DESCRIPTION:Join Miriam Halahmy’s beautiful interactive storytelling of a German Jewish boy who comes to London in 1939 on the Kindertransport and has to save his dog’s life. \nThis event is split into two: a reading of Miriam’s beautiful story\, Saving Hanno\, and after a short break\, a writing\, drama and discussion workshop – where everyone will be given a pet! Suitable for ages 7+. \nSaving Hanno Reading\n11.30am – 12.30pm \nBring a cash donation and pay what you can for the reading of Saving Hanno. \nWriting\, Drama & Discussion Workshop\n1pm – 2pm \n  \n  \n 
URL:https://www.newarkbookfestival.org.uk/event/saving-hanno-miriam-halahmy/
LOCATION:Byron Room\, Upstairs\, Newark Palace Theatre\, Appleton Gate\, Newark\, NG24 1JY.\, United Kingdom
CATEGORIES:Book Reading,Family Friendly,Workshop
ATTACH;FMTTYPE=image/jpeg:https://www.newarkbookfestival.org.uk/wp-content/uploads/2024/05/Saving-Hanno-Miriam-Halahmy.jpg
END:VEVENT
BEGIN:VEVENT
DTSTART;TZID=UTC:20240713T120000
DTEND;TZID=UTC:20240713T160000
DTSTAMP:20260420T151017
CREATED:20240508T141713Z
LAST-MODIFIED:20240510T205935Z
UID:5288-1720872000-1720886400@www.newarkbookfestival.org.uk
SUMMARY:Play in an Inspiring way!
DESCRIPTION:Join the Inspire Learning and Music teams throughout the day and have a go at playing a musical instrument you’ve never tried before\, create your own curious peg doll characters\, make your own dressing-up props\, and dress up for a sensational selfie in a giant\, Inspire photo frame. \nYou’ll also have the chance to design your own mathematical game or puzzle with their Multiply team and try your hand at balloon modelling with the Joker entertainers\, plus choose from bountiful book stalls filling the mezzanine floor. \nLocation: Inspire Buttermarket\, First Floor (above Tambo Lounge)
URL:https://www.newarkbookfestival.org.uk/event/play-in-an-inspiring-way/
LOCATION:Newark Buttermarket\, Inspire Buttermarket\, First Floor\, The Buttermarket\, Middlegate\, Newark\, Nottinghamshire\, NG24 1AL\, United Kingdom
CATEGORIES:Family Friendly,Free Event
ATTACH;FMTTYPE=image/jpeg:https://www.newarkbookfestival.org.uk/wp-content/uploads/2024/05/Play-in-an-inspiring-way.jpg
END:VEVENT
BEGIN:VEVENT
DTSTART;TZID=UTC:20240714T100000
DTEND;TZID=UTC:20240714T150000
DTSTAMP:20260420T151017
CREATED:20240507T163021Z
LAST-MODIFIED:20240510T213743Z
UID:5026-1720951200-1720969200@www.newarkbookfestival.org.uk
SUMMARY:Urban Canvas Word Art
DESCRIPTION:Urban Canvas is bringing more interactive and live pavement art to the streets of Newark during the festival this year. \nFollowing their visit to Newark for Rainbow Road\, Historical Street Games and 3D Pavement Art in 2023\, UK-based pavement artists Philip Battle and Catherine McMahon are back. \nFind them at the Literature Village to discover what they are creating for Newark Book Festival and join in with some street art yourself. \n 
URL:https://www.newarkbookfestival.org.uk/event/urban-canvas-word-art/
LOCATION:Newark Market Place\, Newark Royal Market\, Market Place\, Newark\, Nottinghamshire\, NG24 1DU
CATEGORIES:Family Friendly,Free Event
ATTACH;FMTTYPE=image/jpeg:https://www.newarkbookfestival.org.uk/wp-content/uploads/2024/05/Urban-Canvas-at-Newark-Book-Festival.jpg
END:VEVENT
BEGIN:VEVENT
DTSTART;TZID=UTC:20240714T100000
DTEND;TZID=UTC:20240714T160000
DTSTAMP:20260420T151017
CREATED:20240508T134920Z
LAST-MODIFIED:20240713T070312Z
UID:5006-1720951200-1720972800@www.newarkbookfestival.org.uk
SUMMARY:Play at the Castle
DESCRIPTION:Enjoy an entire day of free family fun in the grounds of Newark Castle. Take part in arts and crafts workshops\, be entertained by street theatre\, relax with authors and illustrators\, and have a go in the sports zone with the Open Doors team from the Palace Theatre. \n And don’t forget to look out for our 2024 Trail as created by our schools – all based on play!  \nFull event programme…\nThe Book-Ends – Rhubarb Theatre\n10am – 10.30am & 11am – 11.30am\nThe Book-Ends popup to bring their stories to life! With a rickety old book cart and some novel ideas\, surprises leap off every page wherever our papery pals roam. Join the book-bonkers buddies as they act out tales of whales\, bonkers bears and manic monsters. Be amazed as they twist the fantastic adventures of pathetic pirates\, merry musketeers and hairy hairdressers. Full of music\, comedy and general silliness! \nStorybook Emporium\n10am – 4pm\, Drop-in crafts\nHop\, skip and jump your way over to the Ally Pally Arts “World Famous Story Emporium”\, back by popular demand for more story-inspired crafty fun and games! \nBookBench Art with Vicky Kuhn\n10am – 4pm\, Drop-in crafts\nA drop-in arts and crafts workshop inspired by the Newark Creates BookBench trail with picturebook illustrator and fabulous BookBench designer\, Vicky Kuhn. \nPlay Tales with Nicky Rafferty\n 10am – 4pm\nJoin in with interactive crafty tales with storyteller Nicky Rafferty. \nFamily Yoga with Peaceful Possums and Emma Oldham\n12pm – 12.45pm // 1.30pm – 2.15pm\nWith storytelling\, imagination\, music and games\, enjoy family yoga sessions with Peaceful Possums Yoga based on The Whale Who Disappeared by Emma Oldham\, who is joining in with the fun\, too! There will also be a mindful area for children to chill out during the day\, including colouring and sensory resources\, ideal for children with neurodiversity or young children to have a break. \nAll events are free and suitable for all ages (including adults!)
URL:https://www.newarkbookfestival.org.uk/event/play-at-the-castle/
LOCATION:Newark Castle\, Newark Castle\, Castlegate\, Newark\, NG24 1BG
CATEGORIES:Family Friendly,Free Event
ATTACH;FMTTYPE=image/jpeg:https://www.newarkbookfestival.org.uk/wp-content/uploads/2024/05/Castle-Family-Time-Child-Reading.jpg
END:VEVENT
BEGIN:VEVENT
DTSTART;TZID=UTC:20240714T103000
DTEND;TZID=UTC:20240714T110000
DTSTAMP:20260420T151018
CREATED:20240507T160912Z
LAST-MODIFIED:20240510T214835Z
UID:5032-1720953000-1720954800@www.newarkbookfestival.org.uk
SUMMARY:Newark BookBenches: Storytelling with Emma Oldham
DESCRIPTION:Meet me at the Benches! Meet author Emma Oldham at the Shimmer and Shine BookBench by artist Carla Dee at Riverside Park for a storytelling session of The Whale Who Disappeared. \nDive into an ocean of adventure with Arry\, the young hero who brought back the magic of the sea! Learn what special superpowers live inside you to help protect our planet too. \nWe’ve all heard the tale of the snail and the whale\,\nBut it’s not the only whale tale to be told.\nYou see\, another exists\, one truly magnificent\nAnd it starts with a clever six-year-old… \nHead over the bridge and see if you can spot the shimmery BookBench from the bridge entrance\, opposite Newark Castle/near Riverside Park.
URL:https://www.newarkbookfestival.org.uk/event/newark-bookbenches-storytelling-with-emma-oldham/
LOCATION:Riverside Park\, Riverside Park\, Great North Road\, Newark
CATEGORIES:Book Reading,Family Friendly,Free Event
ATTACH;FMTTYPE=image/jpeg:https://www.newarkbookfestival.org.uk/wp-content/uploads/2024/05/Emma-Oldham.jpg
END:VEVENT
BEGIN:VEVENT
DTSTART;TZID=UTC:20240714T110000
DTEND;TZID=UTC:20240714T120000
DTSTAMP:20260420T151018
CREATED:20240507T154359Z
LAST-MODIFIED:20240510T215006Z
UID:5030-1720954800-1720958400@www.newarkbookfestival.org.uk
SUMMARY:Walkabout with Daisy
DESCRIPTION:Join Daisy for a walkabout at the Literature Village for a morning with hula hoops\, skipping ropes\, bean bags\, and a bag full of challenges to get everyone involved\, big or small playing all day! \n 
URL:https://www.newarkbookfestival.org.uk/event/walkabout-with-daisy/
LOCATION:Newark Market Place\, Newark Royal Market\, Market Place\, Newark\, Nottinghamshire\, NG24 1DU
CATEGORIES:Family Friendly,Free Event
ATTACH;FMTTYPE=image/jpeg:https://www.newarkbookfestival.org.uk/wp-content/uploads/2024/05/Walkabout-with-Daisy.jpg
END:VEVENT
BEGIN:VEVENT
DTSTART;TZID=UTC:20240714T121500
DTEND;TZID=UTC:20240714T124500
DTSTAMP:20260420T151018
CREATED:20240613T101228Z
LAST-MODIFIED:20240613T101228Z
UID:5724-1720959300-1720961100@www.newarkbookfestival.org.uk
SUMMARY:Nicci and her Strictly Canine Dancing Dogs!
DESCRIPTION:We welcome Nicci and her wonderful Strictly Canine Dancing Dogs on Sunday 14th July 12.15pm – 12.45pm in Newark market place. \nNicci and her dogs have won Crufts a total of 6 times and she is currently 4th in the world in DogDance. Nicci and my dogs perform at events around the country and have been featured in various tv programmes and advert campaigns. \nNicci will be raising money with her show for the European champs at end of July\, so please do support them by donating whilst watching their amazing event. \nFREE
URL:https://www.newarkbookfestival.org.uk/event/nicci-and-her-strictly-canine-dancing-dogs/
LOCATION:Newark Market Place\, Newark Royal Market\, Market Place\, Newark\, Nottinghamshire\, NG24 1DU
CATEGORIES:Family Friendly,Free Event,Fringe Event,Market
ATTACH;FMTTYPE=image/jpeg:https://www.newarkbookfestival.org.uk/wp-content/uploads/2024/06/image1.jpeg
END:VEVENT
BEGIN:VEVENT
DTSTART;TZID=UTC:20240714T130000
DTEND;TZID=UTC:20240714T143000
DTSTAMP:20260420T151018
CREATED:20240503T174513Z
LAST-MODIFIED:20240510T215248Z
UID:5014-1720962000-1720967400@www.newarkbookfestival.org.uk
SUMMARY:Beetlejuice! Wacky Walkabout with Rhubarb Theatre
DESCRIPTION:Watch out\, watch out\, Beetlejuice is about. These chilling characters are rolling into town\, they’ll make you spin the wheel of chance\, I hope you’re ready to have a dance! \nEnjoy live street performances and a Wacky Walkabout with Rhubarb Theatre at the Newark Book Festival Literature Village at Newark’s Market Place. With two performances throughout the day on Sunday. \nGuaranteed entertainment for all the family (adults included!) Rhubarb Theatre’s Beetlejuice! Wacky Walkabout featured character interaction\, dance\, music\, a lot of laughter\, and even more mischief! \nBeetlejuice! Wacky Walkabout Performance Times: \n\n1pm – 1.30pm\n2pm – 2.30pm\n\n 
URL:https://www.newarkbookfestival.org.uk/event/beetlejuice-rhubarb-theatre-wacky-walkabout/
LOCATION:Newark Market Place\, Newark Royal Market\, Market Place\, Newark\, Nottinghamshire\, NG24 1DU
CATEGORIES:Family Friendly,Free Event
ATTACH;FMTTYPE=image/jpeg:https://www.newarkbookfestival.org.uk/wp-content/uploads/2024/05/Rhubarb-Theatre-Beetlejuice.jpg
END:VEVENT
BEGIN:VEVENT
DTSTART;TZID=UTC:20240714T163000
DTEND;TZID=UTC:20240714T173000
DTSTAMP:20260420T151018
CREATED:20240503T183058Z
LAST-MODIFIED:20240613T155952Z
UID:5028-1720974600-1720978200@www.newarkbookfestival.org.uk
SUMMARY:Reggie Houser Has The Power - Helen Rutter
DESCRIPTION:Join us for the last festival event of the season at the National Civil War Centre\, for a laugh-out-loud book talk and reading by Helen Rutter and her latest story\, Reggie Houser Has The Power. \nLearn all about Reggie\, a boy with ADHD who goes on a mission to learn mind control. Will Reggie’s incredible talent solve all his problems or just get him into deep trouble? Interviewed by Kate Hancock. \nSuitable for 8-12 year olds. \n 
URL:https://www.newarkbookfestival.org.uk/event/reggie-houser-has-the-power-helen-rutter/
LOCATION:Tudor Hall\, National Civil War Centre\, National Civil War Centre\, 14 Appleton Gate\, Newark\, Nottinghamshire\, NG24 1JY
CATEGORIES:Family Friendly
ATTACH;FMTTYPE=image/jpeg:https://www.newarkbookfestival.org.uk/wp-content/uploads/2024/05/Reggie-Houser-has-the-power-Helen-Rutter-1.jpg
END:VEVENT
END:VCALENDAR