BEGIN:VCALENDAR
VERSION:2.0
PRODID:-//Newark Book Festival - ECPv6.14.1//NONSGML v1.0//EN
CALSCALE:GREGORIAN
METHOD:PUBLISH
X-WR-CALNAME:Newark Book Festival
X-ORIGINAL-URL:https://www.newarkbookfestival.org.uk
X-WR-CALDESC:Events for Newark Book Festival
REFRESH-INTERVAL;VALUE=DURATION:PT1H
X-Robots-Tag:noindex
X-PUBLISHED-TTL:PT1H
BEGIN:VTIMEZONE
TZID:UTC
BEGIN:STANDARD
TZOFFSETFROM:+0000
TZOFFSETTO:+0000
TZNAME:UTC
DTSTART:20250101T000000
END:STANDARD
END:VTIMEZONE
BEGIN:VEVENT
DTSTART;TZID=UTC:20250710T133000
DTEND;TZID=UTC:20250710T143000
DTSTAMP:20260420T085903
CREATED:20250515T211640Z
LAST-MODIFIED:20250610T154930Z
UID:6216-1752154200-1752157800@www.newarkbookfestival.org.uk
SUMMARY:Grow\, Play & Live with Luke Palmer
DESCRIPTION:Carnegie and Branford Boase-shortlisted author and poet\, Luke Palmer\, is taking to the stage at Newark Book Festival in a powerful and inspiring book talk about his latest YA novel\, Live—a stunning coming-of-age story that hits all the right notes.  \nA coming-of-age novel about music\, friendship\, and grief. Perfect for teens aged 13+\, Luke’s book talk explores creativity\, resilience\, and what it means to grow up.  \nSet in the emotional whirlwind of Year Twelve\, Live follows George\, a passionate young musician who dreams of making it big with his band. But when tragedy strikes\, George and his classmates are forced to face grief\, friendship\, and growing up in a story filled with heart\, hope\, and the healing power of music. \nPerfect for readers who love the work of James Goodhand\, Lisa Williamson\, and Bali Rai\, Live combines vivid storytelling with raw emotion and musical energy. The book also includes original song lyrics—and possibly even a playlist—bringing George’s world to life in an immersive\, relatable way for young readers. \nLuke Palmer\, also an award-winning poet\, will discuss his writing process\, the themes of creativity and resilience that shape his work\, and what it means to tell stories that help young people navigate life’s toughest moments. \nThis is a brilliant session for students\, teachers\, and home educators looking to spark discussion about friendship\, ambition\, grief\, self-expression\, and what it truly means to live. \nFREE FOR SCHOOLS AND HOME EDUCATION COMMUNITY\nEMAIL hello@newarkbookfestival.org.uk to book your place
URL:https://www.newarkbookfestival.org.uk/event/grow-play-live-with-luke-palmer/
LOCATION:Palace Theatre\, Palace Theatre\, Appleton Gate\, Newark\, Nottinghamshire\, NG24 1JY
CATEGORIES:Schools Programme
ATTACH;FMTTYPE=image/png:https://www.newarkbookfestival.org.uk/wp-content/uploads/2025/05/Grow-Play-Live.png
END:VEVENT
BEGIN:VEVENT
DTSTART;TZID=UTC:20250710T100000
DTEND;TZID=UTC:20250710T110000
DTSTAMP:20260420T085903
CREATED:20250515T205848Z
LAST-MODIFIED:20250610T154940Z
UID:6210-1752141600-1752145200@www.newarkbookfestival.org.uk
SUMMARY:Fantasy and Adventure Panel
DESCRIPTION:Step into a world of magical tattoos\, time-stopping twins\, glittering cities\, and centuries-old secrets in this unforgettable event for young fantasy lovers. Acclaimed authors Michelle Harrison and Philippa Leathley take the stage for a spellbinding book talk and Q&A\, exploring the power of storytelling\, the joy of writing fantasy\, and what it takes to create unforgettable adventures. \nPhilippa Leathley introduces her gripping new book Inkbound: Meticulous Jones and the Skull Tattoo\, the second in her magical middle-grade series. When Metty receives a fate-marking tattoo of a skull\, her life changes forever. With danger lurking and her father missing\, Metty must journey to New London to uncover the truth—and find out who she really is. \nMichelle Harrison\, bestselling author of A Pinch of Magic and The Thirteen Treasures\, shares a first look at her brand new novel Twice Upon a Time—a deliciously twisty mystery about twin sisters who can stop time. What begins as a quiet holiday quickly turns into a time-bending investigation involving missing people\, locked rooms\, and family secrets. \nIn conversation with Kate Hancock\, this event is packed with fantasy world-building\, thrilling plot twists\, and plenty of writerly wisdom to inspire young readers and budding authors alike. \nEarly copies of Michelle Harrison’s Twice Upon a Time will be available to purchase and sign on the day! \nIdeal for students aged 8–13\, this lively\, magical event will leave imaginations racing and pens ready to write. \nFREE FOR SCHOOL GROUPS AND HOME EDUCATED COMMUNITY\nContact hello@newarkbookfestival.org.uk to book your tickets.
URL:https://www.newarkbookfestival.org.uk/event/fantasy-and-adventure-panel/
LOCATION:Palace Theatre\, Palace Theatre\, Appleton Gate\, Newark\, Nottinghamshire\, NG24 1JY
CATEGORIES:Schools Programme
ATTACH;FMTTYPE=image/png:https://www.newarkbookfestival.org.uk/wp-content/uploads/2025/05/Fantasy-Adventure-Panel.png
END:VEVENT
END:VCALENDAR